BEGIN:VCALENDAR
VERSION:2.0
PRODID:-//Vulcan Park &amp; Museum - ECPv6.15.20//NONSGML v1.0//EN
CALSCALE:GREGORIAN
METHOD:PUBLISH
X-WR-CALNAME:Vulcan Park &amp; Museum
X-ORIGINAL-URL:https://visitvulcan.com
X-WR-CALDESC:Events for Vulcan Park &amp; Museum
REFRESH-INTERVAL;VALUE=DURATION:PT1H
X-Robots-Tag:noindex
X-PUBLISHED-TTL:PT1H
BEGIN:VTIMEZONE
TZID:America/Chicago
BEGIN:DAYLIGHT
TZOFFSETFROM:-0600
TZOFFSETTO:-0500
TZNAME:CDT
DTSTART:20240310T080000
END:DAYLIGHT
BEGIN:STANDARD
TZOFFSETFROM:-0500
TZOFFSETTO:-0600
TZNAME:CST
DTSTART:20241103T070000
END:STANDARD
BEGIN:DAYLIGHT
TZOFFSETFROM:-0600
TZOFFSETTO:-0500
TZNAME:CDT
DTSTART:20250309T080000
END:DAYLIGHT
BEGIN:STANDARD
TZOFFSETFROM:-0500
TZOFFSETTO:-0600
TZNAME:CST
DTSTART:20251102T070000
END:STANDARD
BEGIN:DAYLIGHT
TZOFFSETFROM:-0600
TZOFFSETTO:-0500
TZNAME:CDT
DTSTART:20260308T080000
END:DAYLIGHT
BEGIN:STANDARD
TZOFFSETFROM:-0500
TZOFFSETTO:-0600
TZNAME:CST
DTSTART:20261101T070000
END:STANDARD
END:VTIMEZONE
BEGIN:VEVENT
DTSTART;TZID=America/Chicago:20251206T160000
DTEND;TZID=America/Chicago:20251206T200000
DTSTAMP:20260425T183324
CREATED:20241128T183236Z
LAST-MODIFIED:20251209T214644Z
UID:10000597-1765036800-1765051200@visitvulcan.com
SUMMARY:Vulcan's Holidays on the Mountain
DESCRIPTION:Join us for a new tradition at Vulcan’s Holidays on the Mountain\, debuting Saturday\, December 6\, from 4 PM to 8 PM\, and experience a joyful celebration at Vulcan Park & Museum. Enjoy an evening filled with twinkle and cheer as you capture photos with Santa\, dance to merry tunes spun by a DJ\, sip complimentary hot cocoa\, shop with local vendors\, partake in fun activities\, and meet our beloved mascots V and Vesta! Bring your friends and family\, take in the sparkling city views\, and create memories that will last for years to come. \nAll proceeds from ticket sales support the programming and educational outreach efforts of Vulcan Park & Museum. \nEARLY CLOSING: Vulcan Park & Museum will close early at 2 PM on Saturday\, December 6\, to prepare for the event. \n\nDATE\nSaturday\, December 6\, 2025 \ntime\n4 PM – 8 PM \nAdmission Prices\nAdults   $10\nMembers  $8\nSeniors  $8\nMilitary  $8 (with valid ID)\nChildren (ages 5-12)  $6\nChildren ages 4 and under  FREE \n  \nBUY TICKETS\n\nperformerS & schedule\n\nClog Wild Cloggers @ 4:30 PM\nClog Wild Cloggers @ 5:30 PM\nKarar Performing Arts @ 6:00 PM\nIron City Revival @ 6:30 PM\nIron City Revival @ 7:30 PM\n\nVendoRS\n\nABC123 Inflatable\nAmFirst Federal Credit Union\nAngie’s Cookie Creations\nB&B\nBirmingham Stallions\nBlum Clothing\nBrandon’s Pawsome Portraits\nClog Wild Cloggers\nDJ – Mandi Trott\nERH Photography\nGrace Creates\nHeavy Metal Titan\nIron City Revival\nKarar Performing Arts\nMaison Durvage\nMagical Scents\nMc Bakes\nMezze\nMiss Iron City and Teen\nMr. Bill the Balloon Man\nNika’s Naturals Skin & Hair Care\nParty Artistry\nRare Transportation\nRevive Expressions\nSpud Dawg Hot Dog\nTaco Tuesday\nTony’s Gourmet Pork Skins\nVivatia Plants\nVoltage and Vine\nYzarcsapphire\n\n\nProud Sponsors\nCity of Birmingham\nCoca-Cola United\nAmerican Cast Iron Pipe Company (ACIPCO)\nSPIRE\nGreater Birmingham Convention & Visitors Bureau (GBCVB)\nInduron Coatings\nIntegrated Hospitality\nMcKinney Communications\nProcess Hospitality\nSt. Mary’s on the Highlands Episcopal Church\nKay Aldridge\nCompound Shoppe\nWard & Cooper Law
URL:https://visitvulcan.com/event/holidays/
LOCATION:Vulcan Park and Museum\, 1701 Valley View Drive\, Birmingham\, 35209\, United States
CATEGORIES:other-events,Vulcan Events
ATTACH;FMTTYPE=image/jpeg:/uploads/2024/11/GRAPHIC-_-Holidays-OTM-2025-_-1920-x-1080-px.jpg
GEO:33.4916915;-86.7960295
X-APPLE-STRUCTURED-LOCATION;VALUE=URI;X-ADDRESS=Vulcan Park and Museum 1701 Valley View Drive Birmingham 35209 United States;X-APPLE-RADIUS=500;X-TITLE=1701 Valley View Drive:geo:-86.7960295,33.4916915
END:VEVENT
BEGIN:VEVENT
DTSTART;TZID=America/Chicago:20251031T183000
DTEND;TZID=America/Chicago:20251031T223000
DTSTAMP:20260425T183324
CREATED:20241010T185109Z
LAST-MODIFIED:20251026T234017Z
UID:10000587-1761935400-1761949800@visitvulcan.com
SUMMARY:Junior Board Hosts Halloween Party (Adult 21+)
DESCRIPTION:Get ready for a spooky good time! Join Vulcan’s Junior Board for an adults-only Halloween Party on October 31\, 2025\, from 6:30 PM to 10:30 PM at Vulcan Park & Museum! \nThe fun takes place indoors and includes: \n\nDJ\nCostume Contest\nCatered Food\nCash Bar (two drink tickets included)\nHalloween-themed Mixology Experience\n+ Much More!\n\nCelebrate Halloween night in style while enjoying stunning views of Birmingham at this exciting addition to Vulcan’s third annual Spooktacular event! \nAll proceeds from ticket sales will support the programming and educational outreach programs at Vulcan Park & Museum. \n\nTICKET PRICES\n*Ticket purchase includes food and two (2) drinks\n**Must be 21 or older to attend and present a valid ID \n\nSINGLE TICKET\n\n$50 each\n\n\n*TWO (2) TICKET DISCOUNT\n\n$90\n\n\n\nBUY TICKETS
URL:https://visitvulcan.com/event/halloween-party/
LOCATION:Vulcan Park and Museum\, 1701 Valley View Drive\, Birmingham\, 35209\, United States
CATEGORIES:Vulcan Events
ATTACH;FMTTYPE=image/jpeg:/uploads/2024/10/JRB-_-Halloween-Party-2025-_-1920-x-1080.jpg
GEO:33.4916915;-86.7960295
X-APPLE-STRUCTURED-LOCATION;VALUE=URI;X-ADDRESS=Vulcan Park and Museum 1701 Valley View Drive Birmingham 35209 United States;X-APPLE-RADIUS=500;X-TITLE=1701 Valley View Drive:geo:-86.7960295,33.4916915
END:VEVENT
BEGIN:VEVENT
DTSTART;TZID=America/Chicago:20251010T100000
DTEND;TZID=America/Chicago:20251010T110000
DTSTAMP:20260425T183324
CREATED:20251001T172255Z
LAST-MODIFIED:20251008T203532Z
UID:10000971-1760090400-1760094000@visitvulcan.com
SUMMARY:Honoring Vulcan’s Place in History: Historical Marker Unveiling
DESCRIPTION:Join us on Friday\, October 10\, at 10:00 AM as we celebrate a long-awaited moment together. \nFor nearly 50 years\, Vulcan has proudly been listed on the National Register of Historic Places\, and now the recognition will finally be commemorated! \nVulcan was officially added to the Register in 1976 by the National Park Service. Thanks to a grant from the William G. Pomeroy Foundation\, we now have an official marker to honor this historic distinction \nBe part of history as we unveil the new historical marker at a special ceremony on the Mountain. This is more than a marker; it is a symbol of Birmingham’s story and the lasting legacy of the world’s largest cast-iron statue. \nDATE Friday\, October 10\, 2025\nTIME 10:00 AM \n 
URL:https://visitvulcan.com/event/marker-unveiling/
LOCATION:Vulcan Park and Museum\, 1701 Valley View Drive\, Birmingham\, 35209\, United States
CATEGORIES:Vulcan Events
ATTACH;FMTTYPE=image/jpeg:/uploads/2025/10/GRAPHIC-_-Historic-Marker-_-1920-x-1080.jpg
GEO:33.4916915;-86.7960295
X-APPLE-STRUCTURED-LOCATION;VALUE=URI;X-ADDRESS=Vulcan Park and Museum 1701 Valley View Drive Birmingham 35209 United States;X-APPLE-RADIUS=500;X-TITLE=1701 Valley View Drive:geo:-86.7960295,33.4916915
END:VEVENT
END:VCALENDAR